BEGIN:VCALENDAR
VERSION:2.0
PRODID:-//hacksw/handcal//NONSGML v1.0//EN
BEGIN:VEVENT
DTSTAMP:20220402T130000Z
DTSTART:20220402T130000Z
DTEND:20220402T130000Z
LOCATION:Treffpunkt Freiwillige Feuerwehr , Kühlstr. 16, 45659 Recklinghausen, Deutschland
SUMMARY:Frühjahrsputz 
END:VEVENT
END:VCALENDAR
