BEGIN:VCALENDAR
VERSION:2.0
PRODID:-//hacksw/handcal//NONSGML v1.0//EN
BEGIN:VEVENT
DTSTAMP:20230318T133000Z
DTSTART:20230318T133000Z
DTEND:20230318T160000Z
LOCATION:Feuerwache, Kühlstr. 16, Recklinghausen, Deutschland
SUMMARY:Einladung zum Frühjahrsputz
END:VEVENT
END:VCALENDAR
